Workbook

Sheet Sheet1
A1: Landesbesoldungsordnung A Gültig ab 01. Dezember 2022 | E1: MIT ABBYY FINEREADER vom PDF erzeugt
E2: Umrandete InsertBlöcke im Stück kopieren und einfügen
A3: Grundgehaltssätze Baden-Württemberg | E3: 2022-12-01
A4: ab 01.12.2022 (Erhöh. 2,8 v.H.)
A5: -Monatsbeträge in EUR-
A7: LBesO B und W
A9: Besol-dungs- | B9: Stufe
A10: gruppe | B10: 1 | C10: 2 | D10: 3 | E10: 4 | F10: 5 | G10: 6 | H10: 7 | I10: 8 | J10: 9 | K10: 10
C11: 3-Jahres | D11: -Rhythmus | H11: 4-Jahres- | I11: Rhythmus
A12: A 7 | B12: 2.769,20 | C12: 2.855,37 | D12: 2.941,50 | E12: 3.027,63 | F12: 3.113,83 | G12: 3.175,34 | H12: 3.236,87 | I12: 3.298,44
A13: A 8 | B13: 2.844,06 | C13: 2.954,49 | D13: 3.064,87 | E13: 3.175,28 | F13: 3.285,72 | G13: 3.359,31 | H13: 3.432,90 | I13: 3.506,54 | J13: 3.580,10
A14: A 9 | B14: 3.008,17 | C14: 3.126,01 | D14: 3.243,82 | E14: 3.361,66 | F14: 3.479,46 | G14: 3.560,50 | H14: 3.641,52 | I14: 3.722,51 | J14: 3.803,52
A15: A 10 | B15: 3.245,03 | C15: 3.395,98 | D15: 3.546,95 | E15: 3.697,93 | F15: 3.848,90 | G15: 3.951,32 | H15: 4.054,27 | I15: 4.157,23 | J15: 4.260,20
A16: A 11 | B16: 3.587,36 | C16: 3.742,07 | D16: 3.897,31 | E16: 4.055,56 | F16: 4.213,82 | G16: 4.319,35 | H16: 4.426,29 | I16: 4.533,95 | J16: 4.641,59 | K16: 4.749,19
A17: A 12 | C17: 4.090,48 | D17: 4.216,26 | E17: 4.406,03 | F17: 4.598,46 | G17: 4.726,79 | H17: 4.855,07 | I17: 4.983,39 | J17: 5.111,71 | K17: 5.240,02
A18: A 13 | D18: 4.715,53 | E18: 4.923,35 | F18: 5.131,19 | G18: 5.269,75 | H18: 5.408,29 | I18: 5.546,85 | J18: 5.685,44 | K18: 5.823,96
A19: A 14 | D19: 5.011,08 | E19: 5.280,59 | F19: 5.550,10 | G19: 5.729,75 | H19: 5.909,46 | I19: 6.089,09 | J19: 6.268,77 | K19: 6.448,47
A20: A 15 | E20: 5.799,35 | F20: 6.095,64 | G20: 6.332,70 | H20: 6.569,73 | I20: 6.806,80 | J20: 7.043,83 | K20: 7.280,91
A21: A 16 | E21: 6.397,21 | F21: 6.739,89 | G21: 7.014,09 | H21: 7.288,26 | I21: 7.562,39 | J21: 7.836,54 | K21: 8.110,70
A23: Gültig ab 01.12.2022 | D23: ="INSERT INTO prog_grundgehalt (startdat, besoldung, betrag, stufe, modify_date) VALUES ('"&$E$3&"', '"&Sheet1!$A14&"', replace(replace('"&Sheet1!B14&"','.',''), ',','.'),'"&Sheet1!B$10&"', now());" -> INSERT INTO prog_grundgehalt (startdat, besoldung, betrag, stufe, modify_date) VALUES ('2022-12-01', 'A 9', replace(replace('3.008,17','.',''), ',','.'),'1', now()); | E23: ="INSERT INTO prog_grundgehalt (startdat, besoldung, betrag, stufe, modify_date) VALUES ('"&$E$3&"', '"&Sheet1!$A14&"', replace(replace('"&Sheet1!C14&"','.',''), ',','.'),'"&Sheet1!C$10&"', now());" -> INSERT INTO prog_grundgehalt (startdat, besoldung, betrag, stufe, modify_date) VALUES ('2022-12-01', 'A 9', replace(replace('3.126,01','.',''), ',','.'),'2', now()); | F23: ="INSERT INTO prog_grundgehalt (startdat, besoldung, betrag, stufe, modify_date) VALUES ('"&$E$3&"', '"&Sheet1!$A14&"', replace(replace('"&Sheet1!D14&"','.',''), ',','.'),'"&Sheet1!D$10&"', now());" -> INSERT INTO prog_grundgehalt (startdat, besoldung, betrag, stufe, modify_date) VALUES ('2022-12-01', 'A 9', replace(replace('3.243,82','.',''), ',','.'),'3', now()); | G23: ="INSERT INTO prog_grundgehalt (startdat, besoldung, betrag, stufe, modify_date) VALUES ('"&$E$3&"', '"&Sheet1!$A14&"', replace(replace('"&Sheet1!E14&"','.',''), ',','.'),'"&Sheet1!E$10&"', now());" -> INSERT INTO prog_grundgehalt (startdat, besoldung, betrag, stufe, modify_date) VALUES ('2022-12-01', 'A 9', replace(replace('3.361,66','.',''), ',','.'),'4', now()); | H23: ="INSERT INTO prog_grundgehalt (startdat, besoldung, betrag, stufe, modify_date) VALUES ('"&$E$3&"', '"&Sheet1!$A14&"', replace(replace('"&Sheet1!F14&"','.',''), ',','.'),'"&Sheet1!F$10&"', now());" -> INSERT INTO prog_grundgehalt (startdat, besoldung, betrag, stufe, modify_date) VALUES ('2022-12-01', 'A 9', replace(replace('3.479,46','.',''), ',','.'),'5', now()); | I23: ="INSERT INTO prog_grundgehalt (startdat, besoldung, betrag, stufe, modify_date) VALUES ('"&$E$3&"', '"&Sheet1!$A14&"', replace(replace('"&Sheet1!G14&"','.',''), ',','.'),'"&Sheet1!G$10&"', now());" -> INSERT INTO prog_grundgehalt (startdat, besoldung, betrag, stufe, modify_date) VALUES ('2022-12-01', 'A 9', replace(replace('3.560,50','.',''), ',','.'),'6', now()); | J23: ="INSERT INTO prog_grundgehalt (startdat, besoldung, betrag, stufe, modify_date) VALUES ('"&$E$3&"', '"&Sheet1!$A14&"', replace(replace('"&Sheet1!H14&"','.',''), ',','.'),'"&Sheet1!H$10&"', now());" -> INSERT INTO prog_grundgehalt (startdat, besoldung, betrag, stufe, modify_date) VALUES ('2022-12-01', 'A 9', replace(replace('3.641,52','.',''), ',','.'),'7', now()); | K23: ="INSERT INTO prog_grundgehalt (startdat, besoldung, betrag, stufe, modify_date) VALUES ('"&$E$3&"', '"&Sheet1!$A14&"', replace(replace('"&Sheet1!I14&"','.',''), ',','.'),'"&Sheet1!I$10&"', now());" -> INSERT INTO prog_grundgehalt (startdat, besoldung, betrag, stufe, modify_date) VALUES ('2022-12-01', 'A 9', replace(replace('3.722,51','.',''), ',','.'),'8', now()); | L23: ="INSERT INTO prog_grundgehalt (startdat, besoldung, betrag, stufe, modify_date) VALUES ('"&$E$3&"', '"&Sheet1!$A14&"', replace(replace('"&Sheet1!J14&"','.',''), ',','.'),'"&Sheet1!J$10&"', now());" -> INSERT INTO prog_grundgehalt (startdat, besoldung, betrag, stufe, modify_date) VALUES ('2022-12-01', 'A 9', replace(replace('3.803,52','.',''), ',','.'),'9', now());
A24: Besoldungsgruppen | B24: EUR | D24: ="INSERT INTO prog_grundgehalt (startdat, besoldung, betrag, stufe, modify_date) VALUES ('"&$E$3&"', '"&Sheet1!$A15&"', replace(replace('"&Sheet1!B15&"','.',''), ',','.'),'"&Sheet1!B$10&"', now());" -> INSERT INTO prog_grundgehalt (startdat, besoldung, betrag, stufe, modify_date) VALUES ('2022-12-01', 'A 10', replace(replace('3.245,03','.',''), ',','.'),'1', now()); | E24: ="INSERT INTO prog_grundgehalt (startdat, besoldung, betrag, stufe, modify_date) VALUES ('"&$E$3&"', '"&Sheet1!$A15&"', replace(replace('"&Sheet1!C15&"','.',''), ',','.'),'"&Sheet1!C$10&"', now());" -> INSERT INTO prog_grundgehalt (startdat, besoldung, betrag, stufe, modify_date) VALUES ('2022-12-01', 'A 10', replace(replace('3.395,98','.',''), ',','.'),'2', now()); | F24: ="INSERT INTO prog_grundgehalt (startdat, besoldung, betrag, stufe, modify_date) VALUES ('"&$E$3&"', '"&Sheet1!$A15&"', replace(replace('"&Sheet1!D15&"','.',''), ',','.'),'"&Sheet1!D$10&"', now());" -> INSERT INTO prog_grundgehalt (startdat, besoldung, betrag, stufe, modify_date) VALUES ('2022-12-01', 'A 10', replace(replace('3.546,95','.',''), ',','.'),'3', now()); | G24: ="INSERT INTO prog_grundgehalt (startdat, besoldung, betrag, stufe, modify_date) VALUES ('"&$E$3&"', '"&Sheet1!$A15&"', replace(replace('"&Sheet1!E15&"','.',''), ',','.'),'"&Sheet1!E$10&"', now());" -> INSERT INTO prog_grundgehalt (startdat, besoldung, betrag, stufe, modify_date) VALUES ('2022-12-01', 'A 10', replace(replace('3.697,93','.',''), ',','.'),'4', now()); | H24: ="INSERT INTO prog_grundgehalt (startdat, besoldung, betrag, stufe, modify_date) VALUES ('"&$E$3&"', '"&Sheet1!$A15&"', replace(replace('"&Sheet1!F15&"','.',''), ',','.'),'"&Sheet1!F$10&"', now());" -> INSERT INTO prog_grundgehalt (startdat, besoldung, betrag, stufe, modify_date) VALUES ('2022-12-01', 'A 10', replace(replace('3.848,90','.',''), ',','.'),'5', now()); | I24: ="INSERT INTO prog_grundgehalt (startdat, besoldung, betrag, stufe, modify_date) VALUES ('"&$E$3&"', '"&Sheet1!$A15&"', replace(replace('"&Sheet1!G15&"','.',''), ',','.'),'"&Sheet1!G$10&"', now());" -> INSERT INTO prog_grundgehalt (startdat, besoldung, betrag, stufe, modify_date) VALUES ('2022-12-01', 'A 10', replace(replace('3.951,32','.',''), ',','.'),'6', now()); | J24: ="INSERT INTO prog_grundgehalt (startdat, besoldung, betrag, stufe, modify_date) VALUES ('"&$E$3&"', '"&Sheet1!$A15&"', replace(replace('"&Sheet1!H15&"','.',''), ',','.'),'"&Sheet1!H$10&"', now());" -> INSERT INTO prog_grundgehalt (startdat, besoldung, betrag, stufe, modify_date) VALUES ('2022-12-01', 'A 10', replace(replace('4.054,27','.',''), ',','.'),'7', now()); | K24: ="INSERT INTO prog_grundgehalt (startdat, besoldung, betrag, stufe, modify_date) VALUES ('"&$E$3&"', '"&Sheet1!$A15&"', replace(replace('"&Sheet1!I15&"','.',''), ',','.'),'"&Sheet1!I$10&"', now());" -> INSERT INTO prog_grundgehalt (startdat, besoldung, betrag, stufe, modify_date) VALUES ('2022-12-01', 'A 10', replace(replace('4.157,23','.',''), ',','.'),'8', now()); | L24: ="INSERT INTO prog_grundgehalt (startdat, besoldung, betrag, stufe, modify_date) VALUES ('"&$E$3&"', '"&Sheet1!$A15&"', replace(replace('"&Sheet1!J15&"','.',''), ',','.'),'"&Sheet1!J$10&"', now());" -> INSERT INTO prog_grundgehalt (startdat, besoldung, betrag, stufe, modify_date) VALUES ('2022-12-01', 'A 10', replace(replace('4.260,20','.',''), ',','.'),'9', now());
A25: B 1 | B25: 7.280,91 | D25: ="INSERT INTO prog_grundgehalt (startdat, besoldung, betrag, stufe, modify_date) VALUES ('"&$E$3&"', '"&Sheet1!$A16&"', replace(replace('"&Sheet1!B16&"','.',''), ',','.'),'"&Sheet1!B$10&"', now());" -> INSERT INTO prog_grundgehalt (startdat, besoldung, betrag, stufe, modify_date) VALUES ('2022-12-01', 'A 11', replace(replace('3.587,36','.',''), ',','.'),'1', now()); | E25: ="INSERT INTO prog_grundgehalt (startdat, besoldung, betrag, stufe, modify_date) VALUES ('"&$E$3&"', '"&Sheet1!$A16&"', replace(replace('"&Sheet1!C16&"','.',''), ',','.'),'"&Sheet1!C$10&"', now());" -> INSERT INTO prog_grundgehalt (startdat, besoldung, betrag, stufe, modify_date) VALUES ('2022-12-01', 'A 11', replace(replace('3.742,07','.',''), ',','.'),'2', now()); | F25: ="INSERT INTO prog_grundgehalt (startdat, besoldung, betrag, stufe, modify_date) VALUES ('"&$E$3&"', '"&Sheet1!$A16&"', replace(replace('"&Sheet1!D16&"','.',''), ',','.'),'"&Sheet1!D$10&"', now());" -> INSERT INTO prog_grundgehalt (startdat, besoldung, betrag, stufe, modify_date) VALUES ('2022-12-01', 'A 11', replace(replace('3.897,31','.',''), ',','.'),'3', now()); | G25: ="INSERT INTO prog_grundgehalt (startdat, besoldung, betrag, stufe, modify_date) VALUES ('"&$E$3&"', '"&Sheet1!$A16&"', replace(replace('"&Sheet1!E16&"','.',''), ',','.'),'"&Sheet1!E$10&"', now());" -> INSERT INTO prog_grundgehalt (startdat, besoldung, betrag, stufe, modify_date) VALUES ('2022-12-01', 'A 11', replace(replace('4.055,56','.',''), ',','.'),'4', now()); | H25: ="INSERT INTO prog_grundgehalt (startdat, besoldung, betrag, stufe, modify_date) VALUES ('"&$E$3&"', '"&Sheet1!$A16&"', replace(replace('"&Sheet1!F16&"','.',''), ',','.'),'"&Sheet1!F$10&"', now());" -> INSERT INTO prog_grundgehalt (startdat, besoldung, betrag, stufe, modify_date) VALUES ('2022-12-01', 'A 11', replace(replace('4.213,82','.',''), ',','.'),'5', now()); | I25: ="INSERT INTO prog_grundgehalt (startdat, besoldung, betrag, stufe, modify_date) VALUES ('"&$E$3&"', '"&Sheet1!$A16&"', replace(replace('"&Sheet1!G16&"','.',''), ',','.'),'"&Sheet1!G$10&"', now());" -> INSERT INTO prog_grundgehalt (startdat, besoldung, betrag, stufe, modify_date) VALUES ('2022-12-01', 'A 11', replace(replace('4.319,35','.',''), ',','.'),'6', now()); | J25: ="INSERT INTO prog_grundgehalt (startdat, besoldung, betrag, stufe, modify_date) VALUES ('"&$E$3&"', '"&Sheet1!$A16&"', replace(replace('"&Sheet1!H16&"','.',''), ',','.'),'"&Sheet1!H$10&"', now());" -> INSERT INTO prog_grundgehalt (startdat, besoldung, betrag, stufe, modify_date) VALUES ('2022-12-01', 'A 11', replace(replace('4.426,29','.',''), ',','.'),'7', now()); | K25: ="INSERT INTO prog_grundgehalt (startdat, besoldung, betrag, stufe, modify_date) VALUES ('"&$E$3&"', '"&Sheet1!$A16&"', replace(replace('"&Sheet1!I16&"','.',''), ',','.'),'"&Sheet1!I$10&"', now());" -> INSERT INTO prog_grundgehalt (startdat, besoldung, betrag, stufe, modify_date) VALUES ('2022-12-01', 'A 11', replace(replace('4.533,95','.',''), ',','.'),'8', now()); | ... M25: ="INSERT INTO prog_grundgehalt (startdat, besoldung, betrag, stufe, modify_date) VALUES ('"&$E$3&"', '"&Sheet1!$A16&"', replace(replace('"&Sheet1!K16&"','.',''), ',','.'),'"&Sheet1!K$10&"', now());" -> INSERT INTO prog_grundgehalt (startdat, besoldung, betrag, stufe, modify_date) VALUES ('2022-12-01', 'A 11', replace(replace('4.749,19','.',''), ',','.'),'10', now());
A26: B 2 | B26: 8.457,55 | E26: ="INSERT INTO prog_grundgehalt (startdat, besoldung, betrag, stufe, modify_date) VALUES ('"&$E$3&"', '"&Sheet1!$A17&"', replace(replace('"&Sheet1!C17&"','.',''), ',','.'),'"&Sheet1!C$10&"', now());" -> INSERT INTO prog_grundgehalt (startdat, besoldung, betrag, stufe, modify_date) VALUES ('2022-12-01', 'A 12', replace(replace('4.090,48','.',''), ',','.'),'2', now()); | F26: ="INSERT INTO prog_grundgehalt (startdat, besoldung, betrag, stufe, modify_date) VALUES ('"&$E$3&"', '"&Sheet1!$A17&"', replace(replace('"&Sheet1!D17&"','.',''), ',','.'),'"&Sheet1!D$10&"', now());" -> INSERT INTO prog_grundgehalt (startdat, besoldung, betrag, stufe, modify_date) VALUES ('2022-12-01', 'A 12', replace(replace('4.216,26','.',''), ',','.'),'3', now()); | G26: ="INSERT INTO prog_grundgehalt (startdat, besoldung, betrag, stufe, modify_date) VALUES ('"&$E$3&"', '"&Sheet1!$A17&"', replace(replace('"&Sheet1!E17&"','.',''), ',','.'),'"&Sheet1!E$10&"', now());" -> INSERT INTO prog_grundgehalt (startdat, besoldung, betrag, stufe, modify_date) VALUES ('2022-12-01', 'A 12', replace(replace('4.406,03','.',''), ',','.'),'4', now()); | H26: ="INSERT INTO prog_grundgehalt (startdat, besoldung, betrag, stufe, modify_date) VALUES ('"&$E$3&"', '"&Sheet1!$A17&"', replace(replace('"&Sheet1!F17&"','.',''), ',','.'),'"&Sheet1!F$10&"', now());" -> INSERT INTO prog_grundgehalt (startdat, besoldung, betrag, stufe, modify_date) VALUES ('2022-12-01', 'A 12', replace(replace('4.598,46','.',''), ',','.'),'5', now()); | I26: ="INSERT INTO prog_grundgehalt (startdat, besoldung, betrag, stufe, modify_date) VALUES ('"&$E$3&"', '"&Sheet1!$A17&"', replace(replace('"&Sheet1!G17&"','.',''), ',','.'),'"&Sheet1!G$10&"', now());" -> INSERT INTO prog_grundgehalt (startdat, besoldung, betrag, stufe, modify_date) VALUES ('2022-12-01', 'A 12', replace(replace('4.726,79','.',''), ',','.'),'6', now()); | J26: ="INSERT INTO prog_grundgehalt (startdat, besoldung, betrag, stufe, modify_date) VALUES ('"&$E$3&"', '"&Sheet1!$A17&"', replace(replace('"&Sheet1!H17&"','.',''), ',','.'),'"&Sheet1!H$10&"', now());" -> INSERT INTO prog_grundgehalt (startdat, besoldung, betrag, stufe, modify_date) VALUES ('2022-12-01', 'A 12', replace(replace('4.855,07','.',''), ',','.'),'7', now()); | K26: ="INSERT INTO prog_grundgehalt (startdat, besoldung, betrag, stufe, modify_date) VALUES ('"&$E$3&"', '"&Sheet1!$A17&"', replace(replace('"&Sheet1!I17&"','.',''), ',','.'),'"&Sheet1!I$10&"', now());" -> INSERT INTO prog_grundgehalt (startdat, besoldung, betrag, stufe, modify_date) VALUES ('2022-12-01', 'A 12', replace(replace('4.983,39','.',''), ',','.'),'8', now()); | L26: ="INSERT INTO prog_grundgehalt (startdat, besoldung, betrag, stufe, modify_date) VALUES ('"&$E$3&"', '"&Sheet1!$A17&"', replace(replace('"&Sheet1!J17&"','.',''), ',','.'),'"&Sheet1!J$10&"', now());" -> INSERT INTO prog_grundgehalt (startdat, besoldung, betrag, stufe, modify_date) VALUES ('2022-12-01', 'A 12', replace(replace('5.111,71','.',''), ',','.'),'9', now()); | M26: ="INSERT INTO prog_grundgehalt (startdat, besoldung, betrag, stufe, modify_date) VALUES ('"&$E$3&"', '"&Sheet1!$A17&"', replace(replace('"&Sheet1!K17&"','.',''), ',','.'),'"&Sheet1!K$10&"', now());" -> INSERT INTO prog_grundgehalt (startdat, besoldung, betrag, stufe, modify_date) VALUES ('2022-12-01', 'A 12', replace(replace('5.240,02','.',''), ',','.'),'10', now());
A27: B 3 | B27: 8.955,70 | F27: ="INSERT INTO prog_grundgehalt (startdat, besoldung, betrag, stufe, modify_date) VALUES ('"&$E$3&"', '"&Sheet1!$A18&"', replace(replace('"&Sheet1!D18&"','.',''), ',','.'),'"&Sheet1!D$10&"', now());" -> INSERT INTO prog_grundgehalt (startdat, besoldung, betrag, stufe, modify_date) VALUES ('2022-12-01', 'A 13', replace(replace('4.715,53','.',''), ',','.'),'3', now()); | G27: ="INSERT INTO prog_grundgehalt (startdat, besoldung, betrag, stufe, modify_date) VALUES ('"&$E$3&"', '"&Sheet1!$A18&"', replace(replace('"&Sheet1!E18&"','.',''), ',','.'),'"&Sheet1!E$10&"', now());" -> INSERT INTO prog_grundgehalt (startdat, besoldung, betrag, stufe, modify_date) VALUES ('2022-12-01', 'A 13', replace(replace('4.923,35','.',''), ',','.'),'4', now()); | H27: ="INSERT INTO prog_grundgehalt (startdat, besoldung, betrag, stufe, modify_date) VALUES ('"&$E$3&"', '"&Sheet1!$A18&"', replace(replace('"&Sheet1!F18&"','.',''), ',','.'),'"&Sheet1!F$10&"', now());" -> INSERT INTO prog_grundgehalt (startdat, besoldung, betrag, stufe, modify_date) VALUES ('2022-12-01', 'A 13', replace(replace('5.131,19','.',''), ',','.'),'5', now()); | I27: ="INSERT INTO prog_grundgehalt (startdat, besoldung, betrag, stufe, modify_date) VALUES ('"&$E$3&"', '"&Sheet1!$A18&"', replace(replace('"&Sheet1!G18&"','.',''), ',','.'),'"&Sheet1!G$10&"', now());" -> INSERT INTO prog_grundgehalt (startdat, besoldung, betrag, stufe, modify_date) VALUES ('2022-12-01', 'A 13', replace(replace('5.269,75','.',''), ',','.'),'6', now()); | J27: ="INSERT INTO prog_grundgehalt (startdat, besoldung, betrag, stufe, modify_date) VALUES ('"&$E$3&"', '"&Sheet1!$A18&"', replace(replace('"&Sheet1!H18&"','.',''), ',','.'),'"&Sheet1!H$10&"', now());" -> INSERT INTO prog_grundgehalt (startdat, besoldung, betrag, stufe, modify_date) VALUES ('2022-12-01', 'A 13', replace(replace('5.408,29','.',''), ',','.'),'7', now()); | K27: ="INSERT INTO prog_grundgehalt (startdat, besoldung, betrag, stufe, modify_date) VALUES ('"&$E$3&"', '"&Sheet1!$A18&"', replace(replace('"&Sheet1!I18&"','.',''), ',','.'),'"&Sheet1!I$10&"', now());" -> INSERT INTO prog_grundgehalt (startdat, besoldung, betrag, stufe, modify_date) VALUES ('2022-12-01', 'A 13', replace(replace('5.546,85','.',''), ',','.'),'8', now()); | L27: ="INSERT INTO prog_grundgehalt (startdat, besoldung, betrag, stufe, modify_date) VALUES ('"&$E$3&"', '"&Sheet1!$A18&"', replace(replace('"&Sheet1!J18&"','.',''), ',','.'),'"&Sheet1!J$10&"', now());" -> INSERT INTO prog_grundgehalt (startdat, besoldung, betrag, stufe, modify_date) VALUES ('2022-12-01', 'A 13', replace(replace('5.685,44','.',''), ',','.'),'9', now()); | M27: ="INSERT INTO prog_grundgehalt (startdat, besoldung, betrag, stufe, modify_date) VALUES ('"&$E$3&"', '"&Sheet1!$A18&"', replace(replace('"&Sheet1!K18&"','.',''), ',','.'),'"&Sheet1!K$10&"', now());" -> INSERT INTO prog_grundgehalt (startdat, besoldung, betrag, stufe, modify_date) VALUES ('2022-12-01', 'A 13', replace(replace('5.823,96','.',''), ',','.'),'10', now());
A28: B 4 | B28: 9.477,42 | F28: ="INSERT INTO prog_grundgehalt (startdat, besoldung, betrag, stufe, modify_date) VALUES ('"&$E$3&"', '"&Sheet1!$A19&"', replace(replace('"&Sheet1!D19&"','.',''), ',','.'),'"&Sheet1!D$10&"', now());" -> INSERT INTO prog_grundgehalt (startdat, besoldung, betrag, stufe, modify_date) VALUES ('2022-12-01', 'A 14', replace(replace('5.011,08','.',''), ',','.'),'3', now()); | G28: ="INSERT INTO prog_grundgehalt (startdat, besoldung, betrag, stufe, modify_date) VALUES ('"&$E$3&"', '"&Sheet1!$A19&"', replace(replace('"&Sheet1!E19&"','.',''), ',','.'),'"&Sheet1!E$10&"', now());" -> INSERT INTO prog_grundgehalt (startdat, besoldung, betrag, stufe, modify_date) VALUES ('2022-12-01', 'A 14', replace(replace('5.280,59','.',''), ',','.'),'4', now()); | H28: ="INSERT INTO prog_grundgehalt (startdat, besoldung, betrag, stufe, modify_date) VALUES ('"&$E$3&"', '"&Sheet1!$A19&"', replace(replace('"&Sheet1!F19&"','.',''), ',','.'),'"&Sheet1!F$10&"', now());" -> INSERT INTO prog_grundgehalt (startdat, besoldung, betrag, stufe, modify_date) VALUES ('2022-12-01', 'A 14', replace(replace('5.550,10','.',''), ',','.'),'5', now()); | I28: ="INSERT INTO prog_grundgehalt (startdat, besoldung, betrag, stufe, modify_date) VALUES ('"&$E$3&"', '"&Sheet1!$A19&"', replace(replace('"&Sheet1!G19&"','.',''), ',','.'),'"&Sheet1!G$10&"', now());" -> INSERT INTO prog_grundgehalt (startdat, besoldung, betrag, stufe, modify_date) VALUES ('2022-12-01', 'A 14', replace(replace('5.729,75','.',''), ',','.'),'6', now()); | J28: ="INSERT INTO prog_grundgehalt (startdat, besoldung, betrag, stufe, modify_date) VALUES ('"&$E$3&"', '"&Sheet1!$A19&"', replace(replace('"&Sheet1!H19&"','.',''), ',','.'),'"&Sheet1!H$10&"', now());" -> INSERT INTO prog_grundgehalt (startdat, besoldung, betrag, stufe, modify_date) VALUES ('2022-12-01', 'A 14', replace(replace('5.909,46','.',''), ',','.'),'7', now()); | K28: ="INSERT INTO prog_grundgehalt (startdat, besoldung, betrag, stufe, modify_date) VALUES ('"&$E$3&"', '"&Sheet1!$A19&"', replace(replace('"&Sheet1!I19&"','.',''), ',','.'),'"&Sheet1!I$10&"', now());" -> INSERT INTO prog_grundgehalt (startdat, besoldung, betrag, stufe, modify_date) VALUES ('2022-12-01', 'A 14', replace(replace('6.089,09','.',''), ',','.'),'8', now()); | L28: ="INSERT INTO prog_grundgehalt (startdat, besoldung, betrag, stufe, modify_date) VALUES ('"&$E$3&"', '"&Sheet1!$A19&"', replace(replace('"&Sheet1!J19&"','.',''), ',','.'),'"&Sheet1!J$10&"', now());" -> INSERT INTO prog_grundgehalt (startdat, besoldung, betrag, stufe, modify_date) VALUES ('2022-12-01', 'A 14', replace(replace('6.268,77','.',''), ',','.'),'9', now()); | M28: ="INSERT INTO prog_grundgehalt (startdat, besoldung, betrag, stufe, modify_date) VALUES ('"&$E$3&"', '"&Sheet1!$A19&"', replace(replace('"&Sheet1!K19&"','.',''), ',','.'),'"&Sheet1!K$10&"', now());" -> INSERT INTO prog_grundgehalt (startdat, besoldung, betrag, stufe, modify_date) VALUES ('2022-12-01', 'A 14', replace(replace('6.448,47','.',''), ',','.'),'10', now());
A29: B 5 | B29: 10.076,00 | G29: ="INSERT INTO prog_grundgehalt (startdat, besoldung, betrag, stufe, modify_date) VALUES ('"&$E$3&"', '"&Sheet1!$A20&"', replace(replace('"&Sheet1!E20&"','.',''), ',','.'),'"&Sheet1!E$10&"', now());" -> INSERT INTO prog_grundgehalt (startdat, besoldung, betrag, stufe, modify_date) VALUES ('2022-12-01', 'A 15', replace(replace('5.799,35','.',''), ',','.'),'4', now()); | H29: ="INSERT INTO prog_grundgehalt (startdat, besoldung, betrag, stufe, modify_date) VALUES ('"&$E$3&"', '"&Sheet1!$A20&"', replace(replace('"&Sheet1!F20&"','.',''), ',','.'),'"&Sheet1!F$10&"', now());" -> INSERT INTO prog_grundgehalt (startdat, besoldung, betrag, stufe, modify_date) VALUES ('2022-12-01', 'A 15', replace(replace('6.095,64','.',''), ',','.'),'5', now()); | I29: ="INSERT INTO prog_grundgehalt (startdat, besoldung, betrag, stufe, modify_date) VALUES ('"&$E$3&"', '"&Sheet1!$A20&"', replace(replace('"&Sheet1!G20&"','.',''), ',','.'),'"&Sheet1!G$10&"', now());" -> INSERT INTO prog_grundgehalt (startdat, besoldung, betrag, stufe, modify_date) VALUES ('2022-12-01', 'A 15', replace(replace('6.332,70','.',''), ',','.'),'6', now()); | J29: ="INSERT INTO prog_grundgehalt (startdat, besoldung, betrag, stufe, modify_date) VALUES ('"&$E$3&"', '"&Sheet1!$A20&"', replace(replace('"&Sheet1!H20&"','.',''), ',','.'),'"&Sheet1!H$10&"', now());" -> INSERT INTO prog_grundgehalt (startdat, besoldung, betrag, stufe, modify_date) VALUES ('2022-12-01', 'A 15', replace(replace('6.569,73','.',''), ',','.'),'7', now()); | K29: ="INSERT INTO prog_grundgehalt (startdat, besoldung, betrag, stufe, modify_date) VALUES ('"&$E$3&"', '"&Sheet1!$A20&"', replace(replace('"&Sheet1!I20&"','.',''), ',','.'),'"&Sheet1!I$10&"', now());" -> INSERT INTO prog_grundgehalt (startdat, besoldung, betrag, stufe, modify_date) VALUES ('2022-12-01', 'A 15', replace(replace('6.806,80','.',''), ',','.'),'8', now()); | L29: ="INSERT INTO prog_grundgehalt (startdat, besoldung, betrag, stufe, modify_date) VALUES ('"&$E$3&"', '"&Sheet1!$A20&"', replace(replace('"&Sheet1!J20&"','.',''), ',','.'),'"&Sheet1!J$10&"', now());" -> INSERT INTO prog_grundgehalt (startdat, besoldung, betrag, stufe, modify_date) VALUES ('2022-12-01', 'A 15', replace(replace('7.043,83','.',''), ',','.'),'9', now()); | M29: ="INSERT INTO prog_grundgehalt (startdat, besoldung, betrag, stufe, modify_date) VALUES ('"&$E$3&"', '"&Sheet1!$A20&"', replace(replace('"&Sheet1!K20&"','.',''), ',','.'),'"&Sheet1!K$10&"', now());" -> INSERT INTO prog_grundgehalt (startdat, besoldung, betrag, stufe, modify_date) VALUES ('2022-12-01', 'A 15', replace(replace('7.280,91','.',''), ',','.'),'10', now());
A30: B 6 | B30: 10.641,25 | G30: ="INSERT INTO prog_grundgehalt (startdat, besoldung, betrag, stufe, modify_date) VALUES ('"&$E$3&"', '"&Sheet1!$A21&"', replace(replace('"&Sheet1!E21&"','.',''), ',','.'),'"&Sheet1!E$10&"', now());" -> INSERT INTO prog_grundgehalt (startdat, besoldung, betrag, stufe, modify_date) VALUES ('2022-12-01', 'A 16', replace(replace('6.397,21','.',''), ',','.'),'4', now()); | H30: ="INSERT INTO prog_grundgehalt (startdat, besoldung, betrag, stufe, modify_date) VALUES ('"&$E$3&"', '"&Sheet1!$A21&"', replace(replace('"&Sheet1!F21&"','.',''), ',','.'),'"&Sheet1!F$10&"', now());" -> INSERT INTO prog_grundgehalt (startdat, besoldung, betrag, stufe, modify_date) VALUES ('2022-12-01', 'A 16', replace(replace('6.739,89','.',''), ',','.'),'5', now()); | I30: ="INSERT INTO prog_grundgehalt (startdat, besoldung, betrag, stufe, modify_date) VALUES ('"&$E$3&"', '"&Sheet1!$A21&"', replace(replace('"&Sheet1!G21&"','.',''), ',','.'),'"&Sheet1!G$10&"', now());" -> INSERT INTO prog_grundgehalt (startdat, besoldung, betrag, stufe, modify_date) VALUES ('2022-12-01', 'A 16', replace(replace('7.014,09','.',''), ',','.'),'6', now()); | J30: ="INSERT INTO prog_grundgehalt (startdat, besoldung, betrag, stufe, modify_date) VALUES ('"&$E$3&"', '"&Sheet1!$A21&"', replace(replace('"&Sheet1!H21&"','.',''), ',','.'),'"&Sheet1!H$10&"', now());" -> INSERT INTO prog_grundgehalt (startdat, besoldung, betrag, stufe, modify_date) VALUES ('2022-12-01', 'A 16', replace(replace('7.288,26','.',''), ',','.'),'7', now()); | K30: ="INSERT INTO prog_grundgehalt (startdat, besoldung, betrag, stufe, modify_date) VALUES ('"&$E$3&"', '"&Sheet1!$A21&"', replace(replace('"&Sheet1!I21&"','.',''), ',','.'),'"&Sheet1!I$10&"', now());" -> INSERT INTO prog_grundgehalt (startdat, besoldung, betrag, stufe, modify_date) VALUES ('2022-12-01', 'A 16', replace(replace('7.562,39','.',''), ',','.'),'8', now()); | L30: ="INSERT INTO prog_grundgehalt (startdat, besoldung, betrag, stufe, modify_date) VALUES ('"&$E$3&"', '"&Sheet1!$A21&"', replace(replace('"&Sheet1!J21&"','.',''), ',','.'),'"&Sheet1!J$10&"', now());" -> INSERT INTO prog_grundgehalt (startdat, besoldung, betrag, stufe, modify_date) VALUES ('2022-12-01', 'A 16', replace(replace('7.836,54','.',''), ',','.'),'9', now()); | M30: ="INSERT INTO prog_grundgehalt (startdat, besoldung, betrag, stufe, modify_date) VALUES ('"&$E$3&"', '"&Sheet1!$A21&"', replace(replace('"&Sheet1!K21&"','.',''), ',','.'),'"&Sheet1!K$10&"', now());" -> INSERT INTO prog_grundgehalt (startdat, besoldung, betrag, stufe, modify_date) VALUES ('2022-12-01', 'A 16', replace(replace('8.110,70','.',''), ',','.'),'10', now());
A31: B 7 | B31: 11.191,11
A32: B 8 | B32: 11.764,14
A33: B 9 | B33: 12.475,69
A34: B 10 | B34: 14.685,38
A35: B 11 | B35: 15.254,87
A37: Landesbesoldungsordnung R Gültig ab 01. Dezember 2022
A39: 2-Jahres-Rhythmus
B40: 1 | C40: 2 | D40: 3 | E40: 4 | F40: 5 | G40: 6 | H40: 7 | I40: 8 | J40: 9 | K40: 10 | L40: 11
A41: R 1 | B41: 4.819,92 | C41: 4.929,34 | D41: 5.211,60 | E41: 5.493,83 | F41: 5.776,04 | G41: 6.058,30 | H41: 6.340,56 | I41: 6.622,78 | J41: 6.905,01 | K41: 7.187,27 | L41: 7.469,49
A42: R 2 | D42: 5.887,22 | E42: 6.169,41 | F42: 6.451,70 | G42: 6.733,91 | H42: 7.016,16 | I42: 7.298,41 | J42: 7.580,60 | K42: 7.862,84 | L42: 8.145,07
A44: R 3 8.955,70 R 4
A46: 9.477,42 R 5
A48: 10.076,00 R 6
A50: 10.641,25 R 7 11.191,11 R 8 11.764,14
A52: W 1 | B52: 5.449,89 | D52: ="INSERT INTO prog_grundgehalt (startdat, besoldung, betrag, stufe, modify_date) VALUES ('"&$E$3&"', '"&Sheet1!$A52&"', replace(replace('"&Sheet1!B52&"','.',''), ',','.'),'0', now());" -> INSERT INTO prog_grundgehalt (startdat, besoldung, betrag, stufe, modify_date) VALUES ('2022-12-01', 'W 1', replace(replace('5.449,89','.',''), ',','.'),'0', now());
A53: W 2 | B53: 6.862,62 | D53: ="INSERT INTO prog_grundgehalt (startdat, besoldung, betrag, stufe, modify_date) VALUES ('"&$E$3&"', '"&Sheet1!$A53&"', replace(replace('"&Sheet1!B53&"','.',''), ',','.'),'0', now());" -> INSERT INTO prog_grundgehalt (startdat, besoldung, betrag, stufe, modify_date) VALUES ('2022-12-01', 'W 2', replace(replace('6.862,62','.',''), ',','.'),'0', now());
A54: W 3 | B54: 7.790,37 | D54: ="INSERT INTO prog_grundgehalt (startdat, besoldung, betrag, stufe, modify_date) VALUES ('"&$E$3&"', '"&Sheet1!$A54&"', replace(replace('"&Sheet1!B54&"','.',''), ',','.'),'0', now());" -> INSERT INTO prog_grundgehalt (startdat, besoldung, betrag, stufe, modify_date) VALUES ('2022-12-01', 'W 3', replace(replace('7.790,37','.',''), ',','.'),'0', now());
A56: Landesbesoldungsordnung C kw Gültig ab 01. Dezember 2022
A58: 2-Jahres-Rhythmus
B59: 1 | C59: 2 | D59: 3 | E59: 4 | F59: 5 | G59: 6 | H59: 7 | I59: 8 | J59: 9 | K59: 10 | L59: 11 | M59: 12 | N59: 13 | O59: 14 | P59: 15
A60: C 1 | B60: 4.029,20 | C60: 4.165,07 | D60: 4.300,88 | E60: 4.438,41 | F60: 4.577,00 | G60: 4.715,53 | H60: 4.854,07 | I60: 4.992,63 | J60: 5.131,19 | K60: 5.269,75 | L60: 5.408,29 | M60: 5.546,85 | N60: 5.685,44 | O60: 5.823,96
A61: C 2 | B61: 4.037,66 | C61: 4.254,15 | D61: 4.473,03 | E61: 4.693,85 | F61: 4.914,65 | G61: 5.135,46 | H61: 5.356,29 | I61: 5.577,09 | J61: 5.797,89 | K61: 6.018,71 | L61: 6.239,52 | M61: 6.460,30 | N61: 6.681,13 | O61: 6.901,94 | P61: 7.122,76
A62: C 3 | B62: 4.431,51 | C62: 4.681,53 | D62: 4.931,55 | E62: 5.181,61 | F62: 5.431,61 | G62: 5.681,64 | H62: 5.931,64 | I62: 6.181,66 | J62: 6.431,68 | K62: 6.681,73 | L62: 6.931,74 | M62: 7.181,75 | N62: 7.431,78 | O62: 7.681,78 | P62: 7.931,82
A63: C 4 | B63: 5.608,59 | C63: 5.859,91 | D63: 6.111,24 | E63: 6.362,58 | F63: 6.613,95 | G63: 6.865,28 | H63: 7.116,61 | I63: 7.367,89 | J63: 7.619,25 | K63: 7.870,55 | L63: 8.121,93 | M63: 8.373,23 | N63: 8.624,55 | O63: 8.875,90 | P63: 9.127,23
A65: Amtszulagen
A67: ,______________Gültig ab 01. Dezember 2022 | D67: ="INSERT INTO prog_grundgehalt (startdat, besoldung, betrag, stufe, modify_date) VALUES ('"&$E$3&"', '"&Sheet1!$A60&"', replace(replace('"&Sheet1!B60&"','.',''), ',','.'),'"&Sheet1!B$59&"', now());" -> INSERT INTO prog_grundgehalt (startdat, besoldung, betrag, stufe, modify_date) VALUES ('2022-12-01', 'C 1', replace(replace('4.029,20','.',''), ',','.'),'1', now()); | E67: ="INSERT INTO prog_grundgehalt (startdat, besoldung, betrag, stufe, modify_date) VALUES ('"&$E$3&"', '"&Sheet1!$A60&"', replace(replace('"&Sheet1!C60&"','.',''), ',','.'),'"&Sheet1!C$59&"', now());" -> INSERT INTO prog_grundgehalt (startdat, besoldung, betrag, stufe, modify_date) VALUES ('2022-12-01', 'C 1', replace(replace('4.165,07','.',''), ',','.'),'2', now()); | F67: ="INSERT INTO prog_grundgehalt (startdat, besoldung, betrag, stufe, modify_date) VALUES ('"&$E$3&"', '"&Sheet1!$A60&"', replace(replace('"&Sheet1!D60&"','.',''), ',','.'),'"&Sheet1!D$59&"', now());" -> INSERT INTO prog_grundgehalt (startdat, besoldung, betrag, stufe, modify_date) VALUES ('2022-12-01', 'C 1', replace(replace('4.300,88','.',''), ',','.'),'3', now()); | G67: ="INSERT INTO prog_grundgehalt (startdat, besoldung, betrag, stufe, modify_date) VALUES ('"&$E$3&"', '"&Sheet1!$A60&"', replace(replace('"&Sheet1!E60&"','.',''), ',','.'),'"&Sheet1!E$59&"', now());" -> INSERT INTO prog_grundgehalt (startdat, besoldung, betrag, stufe, modify_date) VALUES ('2022-12-01', 'C 1', replace(replace('4.438,41','.',''), ',','.'),'4', now()); | H67: ="INSERT INTO prog_grundgehalt (startdat, besoldung, betrag, stufe, modify_date) VALUES ('"&$E$3&"', '"&Sheet1!$A60&"', replace(replace('"&Sheet1!F60&"','.',''), ',','.'),'"&Sheet1!F$59&"', now());" -> INSERT INTO prog_grundgehalt (startdat, besoldung, betrag, stufe, modify_date) VALUES ('2022-12-01', 'C 1', replace(replace('4.577,00','.',''), ',','.'),'5', now()); | I67: ="INSERT INTO prog_grundgehalt (startdat, besoldung, betrag, stufe, modify_date) VALUES ('"&$E$3&"', '"&Sheet1!$A60&"', replace(replace('"&Sheet1!G60&"','.',''), ',','.'),'"&Sheet1!G$59&"', now());" -> INSERT INTO prog_grundgehalt (startdat, besoldung, betrag, stufe, modify_date) VALUES ('2022-12-01', 'C 1', replace(replace('4.715,53','.',''), ',','.'),'6', now()); | J67: ="INSERT INTO prog_grundgehalt (startdat, besoldung, betrag, stufe, modify_date) VALUES ('"&$E$3&"', '"&Sheet1!$A60&"', replace(replace('"&Sheet1!H60&"','.',''), ',','.'),'"&Sheet1!H$59&"', now());" -> INSERT INTO prog_grundgehalt (startdat, besoldung, betrag, stufe, modify_date) VALUES ('2022-12-01', 'C 1', replace(replace('4.854,07','.',''), ',','.'),'7', now()); | K67: ="INSERT INTO prog_grundgehalt (startdat, besoldung, betrag, stufe, modify_date) VALUES ('"&$E$3&"', '"&Sheet1!$A60&"', replace(replace('"&Sheet1!I60&"','.',''), ',','.'),'"&Sheet1!I$59&"', now());" -> INSERT INTO prog_grundgehalt (startdat, besoldung, betrag, stufe, modify_date) VALUES ('2022-12-01', 'C 1', replace(replace('4.992,63','.',''), ',','.'),'8', now()); | ... Q67: ="INSERT INTO prog_grundgehalt (startdat, besoldung, betrag, stufe, modify_date) VALUES ('"&$E$3&"', '"&Sheet1!$A60&"', replace(replace('"&Sheet1!O60&"','.',''), ',','.'),'"&Sheet1!O$59&"', now());" -> INSERT INTO prog_grundgehalt (startdat, besoldung, betrag, stufe, modify_date) VALUES ('2022-12-01', 'C 1', replace(replace('5.823,96','.',''), ',','.'),'14', now());
D68: ="INSERT INTO prog_grundgehalt (startdat, besoldung, betrag, stufe, modify_date) VALUES ('"&$E$3&"', '"&Sheet1!$A61&"', replace(replace('"&Sheet1!B61&"','.',''), ',','.'),'"&Sheet1!B$59&"', now());" -> INSERT INTO prog_grundgehalt (startdat, besoldung, betrag, stufe, modify_date) VALUES ('2022-12-01', 'C 2', replace(replace('4.037,66','.',''), ',','.'),'1', now()); | E68: ="INSERT INTO prog_grundgehalt (startdat, besoldung, betrag, stufe, modify_date) VALUES ('"&$E$3&"', '"&Sheet1!$A61&"', replace(replace('"&Sheet1!C61&"','.',''), ',','.'),'"&Sheet1!C$59&"', now());" -> INSERT INTO prog_grundgehalt (startdat, besoldung, betrag, stufe, modify_date) VALUES ('2022-12-01', 'C 2', replace(replace('4.254,15','.',''), ',','.'),'2', now()); | F68: ="INSERT INTO prog_grundgehalt (startdat, besoldung, betrag, stufe, modify_date) VALUES ('"&$E$3&"', '"&Sheet1!$A61&"', replace(replace('"&Sheet1!D61&"','.',''), ',','.'),'"&Sheet1!D$59&"', now());" -> INSERT INTO prog_grundgehalt (startdat, besoldung, betrag, stufe, modify_date) VALUES ('2022-12-01', 'C 2', replace(replace('4.473,03','.',''), ',','.'),'3', now()); | G68: ="INSERT INTO prog_grundgehalt (startdat, besoldung, betrag, stufe, modify_date) VALUES ('"&$E$3&"', '"&Sheet1!$A61&"', replace(replace('"&Sheet1!E61&"','.',''), ',','.'),'"&Sheet1!E$59&"', now());" -> INSERT INTO prog_grundgehalt (startdat, besoldung, betrag, stufe, modify_date) VALUES ('2022-12-01', 'C 2', replace(replace('4.693,85','.',''), ',','.'),'4', now()); | H68: ="INSERT INTO prog_grundgehalt (startdat, besoldung, betrag, stufe, modify_date) VALUES ('"&$E$3&"', '"&Sheet1!$A61&"', replace(replace('"&Sheet1!F61&"','.',''), ',','.'),'"&Sheet1!F$59&"', now());" -> INSERT INTO prog_grundgehalt (startdat, besoldung, betrag, stufe, modify_date) VALUES ('2022-12-01', 'C 2', replace(replace('4.914,65','.',''), ',','.'),'5', now()); | I68: ="INSERT INTO prog_grundgehalt (startdat, besoldung, betrag, stufe, modify_date) VALUES ('"&$E$3&"', '"&Sheet1!$A61&"', replace(replace('"&Sheet1!G61&"','.',''), ',','.'),'"&Sheet1!G$59&"', now());" -> INSERT INTO prog_grundgehalt (startdat, besoldung, betrag, stufe, modify_date) VALUES ('2022-12-01', 'C 2', replace(replace('5.135,46','.',''), ',','.'),'6', now()); | J68: ="INSERT INTO prog_grundgehalt (startdat, besoldung, betrag, stufe, modify_date) VALUES ('"&$E$3&"', '"&Sheet1!$A61&"', replace(replace('"&Sheet1!H61&"','.',''), ',','.'),'"&Sheet1!H$59&"', now());" -> INSERT INTO prog_grundgehalt (startdat, besoldung, betrag, stufe, modify_date) VALUES ('2022-12-01', 'C 2', replace(replace('5.356,29','.',''), ',','.'),'7', now()); | K68: ="INSERT INTO prog_grundgehalt (startdat, besoldung, betrag, stufe, modify_date) VALUES ('"&$E$3&"', '"&Sheet1!$A61&"', replace(replace('"&Sheet1!I61&"','.',''), ',','.'),'"&Sheet1!I$59&"', now());" -> INSERT INTO prog_grundgehalt (startdat, besoldung, betrag, stufe, modify_date) VALUES ('2022-12-01', 'C 2', replace(replace('5.577,09','.',''), ',','.'),'8', now()); | ... R68: ="INSERT INTO prog_grundgehalt (startdat, besoldung, betrag, stufe, modify_date) VALUES ('"&$E$3&"', '"&Sheet1!$A61&"', replace(replace('"&Sheet1!P61&"','.',''), ',','.'),'"&Sheet1!P$59&"', now());" -> INSERT INTO prog_grundgehalt (startdat, besoldung, betrag, stufe, modify_date) VALUES ('2022-12-01', 'C 2', replace(replace('7.122,76','.',''), ',','.'),'15', now());
A69: Amtszulagen -kw- | D69: ="INSERT INTO prog_grundgehalt (startdat, besoldung, betrag, stufe, modify_date) VALUES ('"&$E$3&"', '"&Sheet1!$A62&"', replace(replace('"&Sheet1!B62&"','.',''), ',','.'),'"&Sheet1!B$59&"', now());" -> INSERT INTO prog_grundgehalt (startdat, besoldung, betrag, stufe, modify_date) VALUES ('2022-12-01', 'C 3', replace(replace('4.431,51','.',''), ',','.'),'1', now()); | E69: ="INSERT INTO prog_grundgehalt (startdat, besoldung, betrag, stufe, modify_date) VALUES ('"&$E$3&"', '"&Sheet1!$A62&"', replace(replace('"&Sheet1!C62&"','.',''), ',','.'),'"&Sheet1!C$59&"', now());" -> INSERT INTO prog_grundgehalt (startdat, besoldung, betrag, stufe, modify_date) VALUES ('2022-12-01', 'C 3', replace(replace('4.681,53','.',''), ',','.'),'2', now()); | F69: ="INSERT INTO prog_grundgehalt (startdat, besoldung, betrag, stufe, modify_date) VALUES ('"&$E$3&"', '"&Sheet1!$A62&"', replace(replace('"&Sheet1!D62&"','.',''), ',','.'),'"&Sheet1!D$59&"', now());" -> INSERT INTO prog_grundgehalt (startdat, besoldung, betrag, stufe, modify_date) VALUES ('2022-12-01', 'C 3', replace(replace('4.931,55','.',''), ',','.'),'3', now()); | G69: ="INSERT INTO prog_grundgehalt (startdat, besoldung, betrag, stufe, modify_date) VALUES ('"&$E$3&"', '"&Sheet1!$A62&"', replace(replace('"&Sheet1!E62&"','.',''), ',','.'),'"&Sheet1!E$59&"', now());" -> INSERT INTO prog_grundgehalt (startdat, besoldung, betrag, stufe, modify_date) VALUES ('2022-12-01', 'C 3', replace(replace('5.181,61','.',''), ',','.'),'4', now()); | H69: ="INSERT INTO prog_grundgehalt (startdat, besoldung, betrag, stufe, modify_date) VALUES ('"&$E$3&"', '"&Sheet1!$A62&"', replace(replace('"&Sheet1!F62&"','.',''), ',','.'),'"&Sheet1!F$59&"', now());" -> INSERT INTO prog_grundgehalt (startdat, besoldung, betrag, stufe, modify_date) VALUES ('2022-12-01', 'C 3', replace(replace('5.431,61','.',''), ',','.'),'5', now()); | I69: ="INSERT INTO prog_grundgehalt (startdat, besoldung, betrag, stufe, modify_date) VALUES ('"&$E$3&"', '"&Sheet1!$A62&"', replace(replace('"&Sheet1!G62&"','.',''), ',','.'),'"&Sheet1!G$59&"', now());" -> INSERT INTO prog_grundgehalt (startdat, besoldung, betrag, stufe, modify_date) VALUES ('2022-12-01', 'C 3', replace(replace('5.681,64','.',''), ',','.'),'6', now()); | J69: ="INSERT INTO prog_grundgehalt (startdat, besoldung, betrag, stufe, modify_date) VALUES ('"&$E$3&"', '"&Sheet1!$A62&"', replace(replace('"&Sheet1!H62&"','.',''), ',','.'),'"&Sheet1!H$59&"', now());" -> INSERT INTO prog_grundgehalt (startdat, besoldung, betrag, stufe, modify_date) VALUES ('2022-12-01', 'C 3', replace(replace('5.931,64','.',''), ',','.'),'7', now()); | K69: ="INSERT INTO prog_grundgehalt (startdat, besoldung, betrag, stufe, modify_date) VALUES ('"&$E$3&"', '"&Sheet1!$A62&"', replace(replace('"&Sheet1!I62&"','.',''), ',','.'),'"&Sheet1!I$59&"', now());" -> INSERT INTO prog_grundgehalt (startdat, besoldung, betrag, stufe, modify_date) VALUES ('2022-12-01', 'C 3', replace(replace('6.181,66','.',''), ',','.'),'8', now()); | ... R69: ="INSERT INTO prog_grundgehalt (startdat, besoldung, betrag, stufe, modify_date) VALUES ('"&$E$3&"', '"&Sheet1!$A62&"', replace(replace('"&Sheet1!P62&"','.',''), ',','.'),'"&Sheet1!P$59&"', now());" -> INSERT INTO prog_grundgehalt (startdat, besoldung, betrag, stufe, modify_date) VALUES ('2022-12-01', 'C 3', replace(replace('7.931,82','.',''), ',','.'),'15', now());
D70: ="INSERT INTO prog_grundgehalt (startdat, besoldung, betrag, stufe, modify_date) VALUES ('"&$E$3&"', '"&Sheet1!$A63&"', replace(replace('"&Sheet1!B63&"','.',''), ',','.'),'"&Sheet1!B$59&"', now());" -> INSERT INTO prog_grundgehalt (startdat, besoldung, betrag, stufe, modify_date) VALUES ('2022-12-01', 'C 4', replace(replace('5.608,59','.',''), ',','.'),'1', now()); | E70: ="INSERT INTO prog_grundgehalt (startdat, besoldung, betrag, stufe, modify_date) VALUES ('"&$E$3&"', '"&Sheet1!$A63&"', replace(replace('"&Sheet1!C63&"','.',''), ',','.'),'"&Sheet1!C$59&"', now());" -> INSERT INTO prog_grundgehalt (startdat, besoldung, betrag, stufe, modify_date) VALUES ('2022-12-01', 'C 4', replace(replace('5.859,91','.',''), ',','.'),'2', now()); | F70: ="INSERT INTO prog_grundgehalt (startdat, besoldung, betrag, stufe, modify_date) VALUES ('"&$E$3&"', '"&Sheet1!$A63&"', replace(replace('"&Sheet1!D63&"','.',''), ',','.'),'"&Sheet1!D$59&"', now());" -> INSERT INTO prog_grundgehalt (startdat, besoldung, betrag, stufe, modify_date) VALUES ('2022-12-01', 'C 4', replace(replace('6.111,24','.',''), ',','.'),'3', now()); | G70: ="INSERT INTO prog_grundgehalt (startdat, besoldung, betrag, stufe, modify_date) VALUES ('"&$E$3&"', '"&Sheet1!$A63&"', replace(replace('"&Sheet1!E63&"','.',''), ',','.'),'"&Sheet1!E$59&"', now());" -> INSERT INTO prog_grundgehalt (startdat, besoldung, betrag, stufe, modify_date) VALUES ('2022-12-01', 'C 4', replace(replace('6.362,58','.',''), ',','.'),'4', now()); | H70: ="INSERT INTO prog_grundgehalt (startdat, besoldung, betrag, stufe, modify_date) VALUES ('"&$E$3&"', '"&Sheet1!$A63&"', replace(replace('"&Sheet1!F63&"','.',''), ',','.'),'"&Sheet1!F$59&"', now());" -> INSERT INTO prog_grundgehalt (startdat, besoldung, betrag, stufe, modify_date) VALUES ('2022-12-01', 'C 4', replace(replace('6.613,95','.',''), ',','.'),'5', now()); | I70: ="INSERT INTO prog_grundgehalt (startdat, besoldung, betrag, stufe, modify_date) VALUES ('"&$E$3&"', '"&Sheet1!$A63&"', replace(replace('"&Sheet1!G63&"','.',''), ',','.'),'"&Sheet1!G$59&"', now());" -> INSERT INTO prog_grundgehalt (startdat, besoldung, betrag, stufe, modify_date) VALUES ('2022-12-01', 'C 4', replace(replace('6.865,28','.',''), ',','.'),'6', now()); | J70: ="INSERT INTO prog_grundgehalt (startdat, besoldung, betrag, stufe, modify_date) VALUES ('"&$E$3&"', '"&Sheet1!$A63&"', replace(replace('"&Sheet1!H63&"','.',''), ',','.'),'"&Sheet1!H$59&"', now());" -> INSERT INTO prog_grundgehalt (startdat, besoldung, betrag, stufe, modify_date) VALUES ('2022-12-01', 'C 4', replace(replace('7.116,61','.',''), ',','.'),'7', now()); | K70: ="INSERT INTO prog_grundgehalt (startdat, besoldung, betrag, stufe, modify_date) VALUES ('"&$E$3&"', '"&Sheet1!$A63&"', replace(replace('"&Sheet1!I63&"','.',''), ',','.'),'"&Sheet1!I$59&"', now());" -> INSERT INTO prog_grundgehalt (startdat, besoldung, betrag, stufe, modify_date) VALUES ('2022-12-01', 'C 4', replace(replace('7.367,89','.',''), ',','.'),'8', now()); | ... R70: ="INSERT INTO prog_grundgehalt (startdat, besoldung, betrag, stufe, modify_date) VALUES ('"&$E$3&"', '"&Sheet1!$A63&"', replace(replace('"&Sheet1!P63&"','.',''), ',','.'),'"&Sheet1!P$59&"', now());" -> INSERT INTO prog_grundgehalt (startdat, besoldung, betrag, stufe, modify_date) VALUES ('2022-12-01', 'C 4', replace(replace('9.127,23','.',''), ',','.'),'15', now());
A71: Strukturzulage
A73: LBesO | B73: Schl. | C73: EUR | E73: UPDATE prog_grundgehalt set besoldung=replace(besoldung, ' ', '');
A74: A7F1 | B74: 860 | C74: 44,83 | E74: SELECT startdat, besoldung, stufe, count(*) Anz FROM `prog_grundgehalt` group by startdat, besoldung, stufe having count(*) > 1;
A75: A7F3 | B75: 107 | C75: 82,69
A76: A7F4 | B76: 861 | C76: 37,86
A77: A8F1 | B77: 862 | C77: maschinell ermittelt
A78: A8F3 | B78: 863
A79: A9F2 | B79: 864 | C79: 156,62
A80: A10F1 | B80: 865 | C80: 156,62
A81: A10F4 | B81: 866 | C81: 278,72
A82: A10F6 | B82: 867 | C82: 156,62
A83: A10F7 | B83: 868 | C83: 122,11
A84: A12F2 | B84: 109 | C84: 193,95
A86: LBesO | B86: Schl. | C86: EUR
A87: A13F5,A14F3,A15F1 | B87: 111 | C87: 232,64
A88: A13F9+10 | B88: 115 | C88: 339,31
A89: A14F1 | B89: 138 | C89: 232,64
A90: A15F7 | B90: 147 | C90: 387,66
A91: A15F8, R1F2-5, R2F4-10, R3F1+5 | B91: 101 | C91: 393,55
... A95: Artikel 36 (Ausgl.zul.) | B95: 870 | C95: 156,62
B96: 875 | C96: 156,62
A98: LBesO | B98: Schl. | C98: EUR
A99: A7F2 | B99: 132 | C99: 44,83
A100: A11F3, A13F4 | B100: 138 | C100: 232,64
A101: A13F6 | B101: 100 | C101: 131,17
A102: A14F2+4, A15F4 | B102: 138 | C102: 232,64
A103: A14F3 | B103: 139 | C103: 342,01
A104: A15F1 | B104: 148 | C104: 155,09
A105: A15F2 | B105: 142 | C105: 486,68
A106: A15F3 | B106: 143 | C106: 607,25
A107: A15F6 | B107: 147 | C107: 387,66
A108: R1F1, R2F1 | B108: 151 | C108: 257,22
A111: Besoldungsgruppe | B111: Schl. | C111: EUR
... A116: höh. Dienst A 13 | B116: 234 | C116: 104,37

Sheet Tabelle1
