Workbook

Sheet Sheet1
A1: Landesbesoldungsordnung A Gültig ab 01. Dezember 2022 | E1: MIT ABBYY FINEREADER vom PDF erzeugt
E2: Umrandete InsertBlöcke im Stück kopieren und einfügen
A3: Grundgehaltssätze Baden-Württemberg | E3: 2022-12-01
A4: ab 01.12.2022 (Erhöh. 2,8 v.H.)
A5: -Monatsbeträge in EUR-
A7: LBesO B und W
A9: Besol-dungs- | B9: Stufe
A10: gruppe | B10: 1 | C10: 2 | D10: 3 | E10: 4 | F10: 5 | G10: 6 | H10: 7 | I10: 8 | J10: 9 | K10: 10
C11: 3-Jahres | D11: -Rhythmus | H11: 4-Jahres- | I11: Rhythmus
A12: A 7 | B12: 2.769,20 | C12: 2.855,37 | D12: 2.941,50 | E12: 3.027,63 | F12: 3.113,83 | G12: 3.175,34 | H12: 3.236,87 | I12: 3.298,44
A13: A 8 | B13: 2.844,06 | C13: 2.954,49 | D13: 3.064,87 | E13: 3.175,28 | F13: 3.285,72 | G13: 3.359,31 | H13: 3.432,90 | I13: 3.506,54 | J13: 3.580,10
A14: A 9 | B14: 3.008,17 | C14: 3.126,01 | D14: 3.243,82 | E14: 3.361,66 | F14: 3.479,46 | G14: 3.560,50 | H14: 3.641,52 | I14: 3.722,51 | J14: 3.803,52
A15: A 10 | B15: 3.245,03 | C15: 3.395,98 | D15: 3.546,95 | E15: 3.697,93 | F15: 3.848,90 | G15: 3.951,32 | H15: 4.054,27 | I15: 4.157,23 | J15: 4.260,20
A16: A 11 | B16: 3.587,36 | C16: 3.742,07 | D16: 3.897,31 | E16: 4.055,56 | F16: 4.213,82 | G16: 4.319,35 | H16: 4.426,29 | I16: 4.533,95 | J16: 4.641,59 | K16: 4.749,19
A17: A 12 | C17: 4.090,48 | D17: 4.216,26 | E17: 4.406,03 | F17: 4.598,46 | G17: 4.726,79 | H17: 4.855,07 | I17: 4.983,39 | J17: 5.111,71 | K17: 5.240,02
A18: A 13 | D18: 4.715,53 | E18: 4.923,35 | F18: 5.131,19 | G18: 5.269,75 | H18: 5.408,29 | I18: 5.546,85 | J18: 5.685,44 | K18: 5.823,96
A19: A 14 | D19: 5.011,08 | E19: 5.280,59 | F19: 5.550,10 | G19: 5.729,75 | H19: 5.909,46 | I19: 6.089,09 | J19: 6.268,77 | K19: 6.448,47
A20: A 15 | E20: 5.799,35 | F20: 6.095,64 | G20: 6.332,70 | H20: 6.569,73 | I20: 6.806,80 | J20: 7.043,83 | K20: 7.280,91
A21: A 16 | E21: 6.397,21 | F21: 6.739,89 | G21: 7.014,09 | H21: 7.288,26 | I21: 7.562,39 | J21: 7.836,54 | K21: 8.110,70
A23: Gültig ab 01.12.2022 | D23: ="INSERT INTO prog_grundgehalt (startdat, besoldung, betrag, stufe, modify_date) VALUES ('"&$E$3&"', '"&Sheet1!$A14&"', replace(replace('"&Sheet1!B14&"','.',''), ',','.'),'"&Sheet1!B$10&"', now());" -> INSERT INTO prog_grundgehalt (startdat, besoldung, betrag, stufe, modify_date) VALUES ('2022-12-01', 'A 9', replace(replace('3.008,17','.',''), ',','.'),'1', now()); | E23: ="INSERT INTO prog_grundgehalt (startdat, besoldung, betrag, stufe, modify_date) VALUES ('"&$E$3&"', '"&Sheet1!$A14&"', replace(replace('"&Sheet1!C14&"','.',''), ',','.'),'"&Sheet1!C$10&"', now());" -> INSERT INTO prog_grundgehalt (startdat, besoldung, betrag, stufe, modify_date) VALUES ('2022-12-01', 'A 9', replace(replace('3.126,01','.',''), ',','.'),'2', now()); | F23: ="INSERT INTO prog_grundgehalt (startdat, besoldung, betrag, stufe, modify_date) VALUES ('"&$E$3&"', '"&Sheet1!$A14&"', replace(replace('"&Sheet1!D14&"','.',''), ',','.'),'"&Sheet1!D$10&"', now());" -> INSERT INTO prog_grundgehalt (startdat, besoldung, betrag, stufe, modify_date) VALUES ('2022-12-01', 'A 9', replace(replace('3.243,82','.',''), ',','.'),'3', now()); | G23: ="INSERT INTO prog_grundgehalt (startdat, besoldung, betrag, stufe, modify_date) VALUES ('"&$E$3&"', '"&Sheet1!$A14&"', replace(replace('"&Sheet1!E14&"','.',''), ',','.'),'"&Sheet1!E$10&"', now());" -> INSERT INTO prog_grundgehalt (startdat, besoldung, betrag, stufe, modify_date) VALUES ('2022-12-01', 'A 9', replace(replace('3.361,66','.',''), ',','.'),'4', now()); | H23: ="INSERT INTO prog_grundgehalt (startdat, besoldung, betrag, stufe, modify_date) VALUES ('"&$E$3&"', '"&Sheet1!$A14&"', replace(replace('"&Sheet1!F14&"','.',''), ',','.'),'"&Sheet1!F$10&"', now());" -> INSERT INTO prog_grundgehalt (startdat, besoldung, betrag, stufe, modify_date) VALUES ('2022-12-01', 'A 9', replace(replace('3.479,46','.',''), ',','.'),'5', now()); | I23: ="INSERT INTO prog_grundgehalt (startdat, besoldung, betrag, stufe, modify_date) VALUES ('"&$E$3&"', '"&Sheet1!$A14&"', replace(replace('"&Sheet1!G14&"','.',''), ',','.'),'"&Sheet1!G$10&"', now());" -> INSERT INTO prog_grundgehalt (startdat, besoldung, betrag, stufe, modify_date) VALUES ('2022-12-01', 'A 9', replace(replace('3.560,50','.',''), ',','.'),'6', now()); | J23: ="INSERT INTO prog_grundgehalt (startdat, besoldung, betrag, stufe, modify_date) VALUES ('"&$E$3&"', '"&Sheet1!$A14&"', replace(replace('"&Sheet1!H14&"','.',''), ',','.'),'"&Sheet1!H$10&"', now());" -> INSERT INTO prog_grundgehalt (startdat, besoldung, betrag, stufe, modify_date) VALUES ('2022-12-01', 'A 9', replace(replace('3.641,52','.',''), ',','.'),'7', now()); | K23: ="INSERT INTO prog_grundgehalt (startdat, besoldung, betrag, stufe, modify_date) VALUES ('"&$E$3&"', '"&Sheet1!$A14&"', replace(replace('"&Sheet1!I14&"','.',''), ',','.'),'"&Sheet1!I$10&"', now());" -> INSERT INTO prog_grundgehalt (startdat, besoldung, betrag, stufe, modify_date) VALUES ('2022-12-01', 'A 9', replace(replace('3.722,51','.',''), ',','.'),'8', now()); | L23: ="INSERT INTO prog_grundgehalt (startdat, besoldung, betrag, stufe, modify_date) VALUES ('"&$E$3&"', '"&Sheet1!$A14&"', replace(replace('"&Sheet1!J14&"','.',''), ',','.'),'"&Sheet1!J$10&"', now());" -> INSERT INTO prog_grundgehalt (startdat, besoldung, betrag, stufe, modify_date) VALUES ('2022-12-01', 'A 9', replace(replace('3.803,52','.',''), ',','.'),'9', now());
A24: Besoldungsgruppen | B24: EUR | D24: ="INSERT INTO prog_grundgehalt (startdat, besoldung, betrag, stufe, modify_date) VALUES ('"&$E$3&"', '"&Sheet1!$A15&"', replace(replace('"&Sheet1!B15&"','.',''), ',','.'),'"&Sheet1!B$10&"', now());" -> INSERT INTO prog_grundgehalt (startdat, besoldung, betrag, stufe, modify_date) VALUES ('2022-12-01', 'A 10', replace(replace('3.245,03','.',''), ',','.'),'1', now()); | E24: ="INSERT INTO prog_grundgehalt (startdat, besoldung, betrag, stufe, modify_date) VALUES ('"&$E$3&"', '"&Sheet1!$A15&"', replace(replace('"&Sheet1!C15&"','.',''), ',','.'),'"&Sheet1!C$10&"', now());" -> INSERT INTO prog_grundgehalt (startdat, besoldung, betrag, stufe, modify_date) VALUES ('2022-12-01', 'A 10', replace(replace('3.395,98','.',''), ',','.'),'2', now()); | F24: ="INSERT INTO prog_grundgehalt (startdat, besoldung, betrag, stufe, modify_date) VALUES ('"&$E$3&"', '"&Sheet1!$A15&"', replace(replace('"&Sheet1!D15&"','.',''), ',','.'),'"&Sheet1!D$10&"', now());" -> INSERT INTO prog_grundgehalt (startdat, besoldung, betrag, stufe, modify_date) VALUES ('2022-12-01', 'A 10', replace(replace('3.546,95','.',''), ',','.'),'3', now()); | G24: ="INSERT INTO prog_grundgehalt (startdat, besoldung, betrag, stufe, modify_date) VALUES ('"&$E$3&"', '"&Sheet1!$A15&"', replace(replace('"&Sheet1!E15&"','.',''), ',','.'),'"&Sheet1!E$10&"', now());" -> INSERT INTO prog_grundgehalt (startdat, besoldung, betrag, stufe, modify_date) VALUES ('2022-12-01', 'A 10', replace(replace('3.697,93','.',''), ',','.'),'4', now()); | H24: ="INSERT INTO prog_grundgehalt (startdat, besoldung, betrag, stufe, modify_date) VALUES ('"&$E$3&"', '"&Sheet1!$A15&"', replace(replace('"&Sheet1!F15&"','.',''), ',','.'),'"&Sheet1!F$10&"', now());" -> INSERT INTO prog_grundgehalt (startdat, besoldung, betrag, stufe, modify_date) VALUES ('2022-12-01', 'A 10', replace(replace('3.848,90','.',''), ',','.'),'5', now()); | I24: ="INSERT INTO prog_grundgehalt (startdat, besoldung, betrag, stufe, modify_date) VALUES ('"&$E$3&"', '"&Sheet1!$A15&"', replace(replace('"&Sheet1!G15&"','.',''), ',','.'),'"&Sheet1!G$10&"', now());" -> INSERT INTO prog_grundgehalt (startdat, besoldung, betrag, stufe, modify_date) VALUES ('2022-12-01', 'A 10', replace(replace('3.951,32','.',''), ',','.'),'6', now()); | J24: ="INSERT INTO prog_grundgehalt (startdat, besoldung, betrag, stufe, modify_date) VALUES ('"&$E$3&"', '"&Sheet1!$A15&"', replace(replace('"&Sheet1!H15&"','.',''), ',','.'),'"&Sheet1!H$10&"', now());" -> INSERT INTO prog_grundgehalt (startdat, besoldung, betrag, stufe, modify_date) VALUES ('2022-12-01', 'A 10', replace(replace('4.054,27','.',''), ',','.'),'7', now()); | K24: ="INSERT INTO prog_grundgehalt (startdat, besoldung, betrag, stufe, modify_date) VALUES ('"&$E$3&"', '"&Sheet1!$A15&"', replace(replace('"&Sheet1!I15&"','.',''), ',','.'),'"&Sheet1!I$10&"', now());" -> INSERT INTO prog_grundgehalt (startdat, besoldung, betrag, stufe, modify_date) VALUES ('2022-12-01', 'A 10', replace(replace('4.157,23','.',''), ',','.'),'8', now()); | L24: ="INSERT INTO prog_grundgehalt (startdat, besoldung, betrag, stufe, modify_date) VALUES ('"&$E$3&"', '"&Sheet1!$A15&"', replace(replace('"&Sheet1!J15&"','.',''), ',','.'),'"&Sheet1!J$10&"', now());" -> INSERT INTO prog_grundgehalt (startdat, besoldung, betrag, stufe, modify_date) VALUES ('2022-12-01', 'A 10', replace(replace('4.260,20','.',''), ',','.'),'9', now());
A25: B 1 | B25: 7.280,91 | D25: ="INSERT INTO prog_grundgehalt (startdat, besoldung, betrag, stufe, modify_date) VALUES ('"&$E$3&"', '"&Sheet1!$A16&"', replace(replace('"&Sheet1!B16&"','.',''), ',','.'),'"&Sheet1!B$10&"', now());" -> INSERT INTO prog_grundgehalt (startdat, besoldung, betrag, stufe, modify_date) VALUES ('2022-12-01', 'A 11', replace(replace('3.587,36','.',''), ',','.'),'1', now()); | E25: ="INSERT INTO prog_grundgehalt (startdat, besoldung, betrag, stufe, modify_date) VALUES ('"&$E$3&"', '"&Sheet1!$A16&"', replace(replace('"&Sheet1!C16&"','.',''), ',','.'),'"&Sheet1!C$10&"', now());" -> INSERT INTO prog_grundgehalt (startdat, besoldung, betrag, stufe, modify_date) VALUES ('2022-12-01', 'A 11', replace(replace('3.742,07','.',''), ',','.'),'2', now()); | F25: ="INSERT INTO prog_grundgehalt (startdat, besoldung, betrag, stufe, modify_date) VALUES ('"&$E$3&"', '"&Sheet1!$A16&"', replace(replace('"&Sheet1!D16&"','.',''), ',','.'),'"&Sheet1!D$10&"', now());" -> INSERT INTO prog_grundgehalt (startdat, besoldung, betrag, stufe, modify_date) VALUES ('2022-12-01', 'A 11', replace(replace('3.897,31','.',''), ',','.'),'3', now()); | G25: ="INSERT INTO prog_grundgehalt (startdat, besoldung, betrag, stufe, modify_date) VALUES ('"&$E$3&"', '"&Sheet1!$A16&"', replace(replace('"&Sheet1!E16&"','.',''), ',','.'),'"&Sheet1!E$10&"', now());" -> INSERT INTO prog_grundgehalt (startdat, besoldung, betrag, stufe, modify_date) VALUES ('2022-12-01', 'A 11', replace(replace('4.055,56','.',''), ',','.'),'4', now()); | H25: ="INSERT INTO prog_grundgehalt (startdat, besoldung, betrag, stufe, modify_date) VALUES ('"&$E$3&"', '"&Sheet1!$A16&"', replace(replace('"&Sheet1!F16&"','.',''), ',','.'),'"&Sheet1!F$10&"', now());" -> INSERT INTO prog_grundgehalt (startdat, besoldung, betrag, stufe, modify_date) VALUES ('2022-12-01', 'A 11', replace(replace('4.213,82','.',''), ',','.'),'5', now()); | I25: ="INSERT INTO prog_grundgehalt (startdat, besoldung, betrag, stufe, modify_date) VALUES ('"&$E$3&"', '"&Sheet1!$A16&"', replace(replace('"&Sheet1!G16&"','.',''), ',','.'),'"&Sheet1!G$10&"', now());" -> INSERT INTO prog_grundgehalt (startdat, besoldung, betrag, stufe, modify_date) VALUES ('2022-12-01', 'A 11', replace(replace('4.319,35','.',''), ',','.'),'6', now()); | J25: ="INSERT INTO prog_grundgehalt (startdat, besoldung, betrag, stufe, modify_date) VALUES ('"&$E$3&"', '"&Sheet1!$A16&"', replace(replace('"&Sheet1!H16&"','.',''), ',','.'),'"&Sheet1!H$10&"', now());" -> INSERT INTO prog_grundgehalt (startdat, besoldung, betrag, stufe, modify_date) VALUES ('2022-12-01', 'A 11', replace(replace('4.426,29','.',''), ',','.'),'7', now()); | K25: ="INSERT INTO prog_grundgehalt (startdat, besoldung, betrag, stufe, modify_date) VALUES ('"&$E$3&"', '"&Sheet1!$A16&"', replace(replace('"&Sheet1!I16&"','.',''), ',','.'),'"&Sheet1!I$10&"', now());" -> INSERT INTO prog_grundgehalt (startdat, besoldung, betrag, stufe, modify_date) VALUES ('2022-12-01', 'A 11', replace(replace('4.533,95','.',''), ',','.'),'8', now()); | ... M25: ="INSERT INTO prog_grundgehalt (startdat, besoldung, betrag, stufe, modify_date) VALUES ('"&$E$3&"', '"&Sheet1!$A16&"', replace(replace('"&Sheet1!K16&"','.',''), ',','.'),'"&Sheet1!K$10&"', now());" -> INSERT INTO prog_grundgehalt (startdat, besoldung, betrag, stufe, modify_date) VALUES ('2022-12-01', 'A 11', replace(replace('4.749,19','.',''), ',','.'),'10', now());
A26: B 2 | B26: 8.457,55 | E26: ="INSERT INTO prog_grundgehalt (startdat, besoldung, betrag, stufe, modify_date) VALUES ('"&$E$3&"', '"&Sheet1!$A17&"', replace(replace('"&Sheet1!C17&"','.',''), ',','.'),'"&Sheet1!C$10&"', now());" -> INSERT INTO prog_grundgehalt (startdat, besoldung, betrag, stufe, modify_date) VALUES ('2022-12-01', 'A 12', replace(replace('4.090,48','.',''), ',','.'),'2', now()); | F26: ="INSERT INTO prog_grundgehalt (startdat, besoldung, betrag, stufe, modify_date) VALUES ('"&$E$3&"', '"&Sheet1!$A17&"', replace(replace('"&Sheet1!D17&"','.',''), ',','.'),'"&Sheet1!D$10&"', now());" -> INSERT INTO prog_grundgehalt (startdat, besoldung, betrag, stufe, modify_date) VALUES ('2022-12-01', 'A 12', replace(replace('4.216,26','.',''), ',','.'),'3', now()); | G26: ="INSERT INTO prog_grundgehalt (startdat, besoldung, betrag, stufe, modify_date) VALUES ('"&$E$3&"', '"&Sheet1!$A17&"', replace(replace('"&Sheet1!E17&"','.',''), ',','.'),'"&Sheet1!E$10&"', now());" -> INSERT INTO prog_grundgehalt (startdat, besoldung, betrag, stufe, modify_date) VALUES ('2022-12-01', 'A 12', replace(replace('4.406,03','.',''), ',','.'),'4', now()); | H26: ="INSERT INTO prog_grundgehalt (startdat, besoldung, betrag, stufe, modify_date) VALUES ('"&$E$3&"', '"&Sheet1!$A17&"', replace(replace('"&Sheet1!F17&"','.',''), ',','.'),'"&Sheet1!F$10&"', now());" -> INSERT INTO prog_grundgehalt (startdat, besoldung, betrag, stufe, modify_date) VALUES ('2022-12-01', 'A 12', replace(replace('4.598,46','.',''), ',','.'),'5', now()); | I26: ="INSERT INTO prog_grundgehalt (startdat, besoldung, betrag, stufe, modify_date) VALUES ('"&$E$3&"', '"&Sheet1!$A17&"', replace(replace('"&Sheet1!G17&"','.',''), ',','.'),'"&Sheet1!G$10&"', now());" -> INSERT INTO prog_grundgehalt (startdat, besoldung, betrag, stufe, modify_date) VALUES ('2022-12-01', 'A 12', replace(replace('4.726,79','.',''), ',','.'),'6', now()); | J26: ="INSERT INTO prog_grundgehalt (startdat, besoldung, betrag, stufe, modify_date) VALUES ('"&$E$3&"', '"&Sheet1!$A17&"', replace(replace('"&Sheet1!H17&"','.',''), ',','.'),'"&Sheet1!H$10&"', now());" -> INSERT INTO prog_grundgehalt (startdat, besoldung, betrag, stufe, modify_date) VALUES ('2022-12-01', 'A 12', replace(replace('4.855,07','.',''), ',','.'),'7', now()); | K26: ="INSERT INTO prog_grundgehalt (startdat, besoldung, betrag, stufe, modify_date) VALUES ('"&$E$3&"', '"&Sheet1!$A17&"', replace(replace('"&Sheet1!I17&"','.',''), ',','.'),'"&Sheet1!I$10&"', now());" -> INSERT INTO prog_grundgehalt (startdat, besoldung, betrag, stufe, modify_date) VALUES ('2022-12-01', 'A 12', replace(replace('4.983,39','.',''), ',','.'),'8', now()); | L26: ="INSERT INTO prog_grundgehalt (startdat, besoldung, betrag, stufe, modify_date) VALUES ('"&$E$3&"', '"&Sheet1!$A17&"', replace(replace('"&Sheet1!J17&"','.',''), ',','.'),'"&Sheet1!J$10&"', now());" -> INSERT INTO prog_grundgehalt (startdat, besoldung, betrag, stufe, modify_date) VALUES ('2022-12-01', 'A 12', replace(replace('5.111,71','.',''), ',','.'),'9', now()); | M26: ="INSERT INTO prog_grundgehalt (startdat, besoldung, betrag, stufe, modify_date) VALUES ('"&$E$3&"', '"&Sheet1!$A17&"', replace(replace('"&Sheet1!K17&"','.',''), ',','.'),'"&Sheet1!K$10&"', now());" -> INSERT INTO prog_grundgehalt (startdat, besoldung, betrag, stufe, modify_date) VALUES ('2022-12-01', 'A 12', replace(replace('5.240,02','.',''), ',','.'),'10', now());
A27: B 3 | B27: 8.955,70 | F27: ="INSERT INTO prog_grundgehalt (startdat, besoldung, betrag, stufe, modify_date) VALUES ('"&$E$3&"', '"&Sheet1!$A18&"', replace(replace('"&Sheet1!D18&"','.',''), ',','.'),'"&Sheet1!D$10&"', now());" -> INSERT INTO prog_grundgehalt (startdat, besoldung, betrag, stufe, modify_date) VALUES ('2022-12-01', 'A 13', replace(replace('4.715,53','.',''), ',','.'),'3', now()); | G27: ="INSERT INTO prog_grundgehalt (startdat, besoldung, betrag, stufe, modify_date) VALUES ('"&$E$3&"', '"&Sheet1!$A18&"', replace(replace('"&Sheet1!E18&"','.',''), ',','.'),'"&Sheet1!E$10&"', now());" -> INSERT INTO prog_grundgehalt (startdat, besoldung, betrag, stufe, modify_date) VALUES ('2022-12-01', 'A 13', replace(replace('4.923,35','.',''), ',','.'),'4', now()); | H27: ="INSERT INTO prog_grundgehalt (startdat, besoldung, betrag, stufe, modify_date) VALUES ('"&$E$3&"', '"&Sheet1!$A18&"', replace(replace('"&Sheet1!F18&"','.',''), ',','.'),'"&Sheet1!F$10&"', now());" -> INSERT INTO prog_grundgehalt (startdat, besoldung, betrag, stufe, modify_date) VALUES ('2022-12-01', 'A 13', replace(replace('5.131,19','.',''), ',','.'),'5', now()); | I27: ="INSERT INTO prog_grundgehalt (startdat, besoldung, betrag, stufe, modify_date) VALUES ('"&$E$3&"', '"&Sheet1!$A18&"', replace(replace('"&Sheet1!G18&"','.',''), ',','.'),'"&Sheet1!G$10&"', now());" -> INSERT INTO prog_grundgehalt (startdat, besoldung, betrag, stufe, modify_date) VALUES ('2022-12-01', 'A 13', replace(replace('5.269,75','.',''), ',','.'),'6', now()); | J27: ="INSERT INTO prog_grundgehalt (startdat, besoldung, betrag, stufe, modify_date) VALUES ('"&$E$3&"', '"&Sheet1!$A18&"', replace(replace('"&Sheet1!H18&"','.',''), ',','.'),'"&Sheet1!H$10&"', now());" -> INSERT INTO prog_grundgehalt (startdat, besoldung, betrag, stufe, modify_date) VALUES ('2022-12-01', 'A 13', replace(replace('5.408,29','.',''), ',','.'),'7', now()); | K27: ="INSERT INTO prog_grundgehalt (startdat, besoldung, betrag, stufe, modify_date) VALUES ('"&$E$3&"', '"&Sheet1!$A18&"', replace(replace('"&Sheet1!I18&"','.',''), ',','.'),'"&Sheet1!I$10&"', now());" -> INSERT INTO prog_grundgehalt (startdat, besoldung, betrag, stufe, modify_date) VALUES ('2022-12-01', 'A 13', replace(replace('5.546,85','.',''), ',','.'),'8', now()); | L27: ="INSERT INTO prog_grundgehalt (startdat, besoldung, betrag, stufe, modify_date) VALUES ('"&$E$3&"', '"&Sheet1!$A18&"', replace(replace('"&Sheet1!J18&"','.',''), ',','.'),'"&Sheet1!J$10&"', now());" -> INSERT INTO prog_grundgehalt (startdat, besoldung, betrag, stufe, modify_date) VALUES ('2022-12-01', 'A 13', replace(replace('5.685,44','.',''), ',','.'),'9', now()); | M27: ="INSERT INTO prog_grundgehalt (startdat, besoldung, betrag, stufe, modify_date) VALUES ('"&$E$3&"', '"&Sheet1!$A18&"', replace(replace('"&Sheet1!K18&"','.',''), ',','.'),'"&Sheet1!K$10&"', now());" -> INSERT INTO prog_grundgehalt (startdat, besoldung, betrag, stufe, modify_date) VALUES ('2022-12-01', 'A 13', replace(replace('5.823,96','.',''), ',','.'),'10', now());
A28: B 4 | B28: 9.477,42 | F28: ="INSERT INTO prog_grundgehalt (startdat, besoldung, betrag, stufe, modify_date) VALUES ('"&$E$3&"', '"&Sheet1!$A19&"', replace(replace('"&Sheet1!D19&"','.',''), ',','.'),'"&Sheet1!D$10&"', now());" -> INSERT INTO prog_grundgehalt (startdat, besoldung, betrag, stufe, modify_date) VALUES ('2022-12-01', 'A 14', replace(replace('5.011,08','.',''), ',','.'),'3', now()); | G28: ="INSERT INTO prog_grundgehalt (startdat, besoldung, betrag, stufe, modify_date) VALUES ('"&$E$3&"', '"&Sheet1!$A19&"', replace(replace('"&Sheet1!E19&"','.',''), ',','.'),'"&Sheet1!E$10&"', now());" -> INSERT INTO prog_grundgehalt (startdat, besoldung, betrag, stufe, modify_date) VALUES ('2022-12-01', 'A 14', replace(replace('5.280,59','.',''), ',','.'),'4', now()); | H28: ="INSERT INTO prog_grundgehalt (startdat, besoldung, betrag, stufe, modify_date) VALUES ('"&$E$3&"', '"&Sheet1!$A19&"', replace(replace('"&Sheet1!F19&"','.',''), ',','.'),'"&Sheet1!F$10&"', now());" -> INSERT INTO prog_grundgehalt (startdat, besoldung, betrag, stufe, modify_date) VALUES ('2022-12-01', 'A 14', replace(replace('5.550,10','.',''), ',','.'),'5', now()); | I28: ="INSERT INTO prog_grundgehalt (startdat, besoldung, betrag, stufe, modify_date) VALUES ('"&$E$3&"', '"&Sheet1!$A19&"', replace(replace('"&Sheet1!G19&"','.',''), ',','.'),'"&Sheet1!G$10&"', now());" -> INSERT INTO prog_grundgehalt (startdat, besoldung, betrag, stufe, modify_date) VALUES ('2022-12-01', 'A 14', replace(replace('5.729,75','.',''), ',','.'),'6', now()); | J28: ="INSERT INTO prog_grundgehalt (startdat, besoldung, betrag, stufe, modify_date) VALUES ('"&$E$3&"', '"&Sheet1!$A19&"', replace(replace('"&Sheet1!H19&"','.',''), ',','.'),'"&Sheet1!H$10&"', now());" -> INSERT INTO prog_grundgehalt (startdat, besoldung, betrag, stufe, modify_date) VALUES ('2022-12-01', 'A 14', replace(replace('5.909,46','.',''), ',','.'),'7', now()); | K28: ="INSERT INTO prog_grundgehalt (startdat, besoldung, betrag, stufe, modify_date) VALUES ('"&$E$3&"', '"&Sheet1!$A19&"', replace(replace('"&Sheet1!I19&"','.',''), ',','.'),'"&Sheet1!I$10&"', now());" -> INSERT INTO prog_grundgehalt (startdat, besoldung, betrag, stufe, modify_date) VALUES ('2022-12-01', 'A 14', replace(replace('6.089,09','.',''), ',','.'),'8', now()); | L28: ="INSERT INTO prog_grundgehalt (startdat, besoldung, betrag, stufe, modify_date) VALUES ('"&$E$3&"', '"&Sheet1!$A19&"', replace(replace('"&Sheet1!J19&"','.',''), ',','.'),'"&Sheet1!J$10&"', now());" -> INSERT INTO prog_grundgehalt (startdat, besoldung, betrag, stufe, modify_date) VALUES ('2022-12-01', 'A 14', replace(replace('6.268,77','.',''), ',','.'),'9', now()); | M28: ="INSERT INTO prog_grundgehalt (startdat, besoldung, betrag, stufe, modify_date) VALUES ('"&$E$3&"', '"&Sheet1!$A19&"', replace(replace('"&Sheet1!K19&"','.',''), ',','.'),'"&Sheet1!K$10&"', now());" -> INSERT INTO prog_grundgehalt (startdat, besoldung, betrag, stufe, modify_date) VALUES ('2022-12-01', 'A 14', replace(replace('6.448,47','.',''), ',','.'),'10', now());
A29: B 5 | B29: 10.076,00 | G29: ="INSERT INTO prog_grundgehalt (startdat, besoldung, betrag, stufe, modify_date) VALUES ('"&$E$3&"', '"&Sheet1!$A20&"', replace(replace('"&Sheet1!E20&"','.',''), ',','.'),'"&Sheet1!E$10&"', now());" -> INSERT INTO prog_grundgehalt (startdat, besoldung, betrag, stufe, modify_date) VALUES ('2022-12-01', 'A 15', replace(replace('5.799,35','.',''), ',','.'),'4', now()); | H29: ="INSERT INTO prog_grundgehalt (startdat, besoldung, betrag, stufe, modify_date) VALUES ('"&$E$3&"', '"&Sheet1!$A20&"', replace(replace('"&Sheet1!F20&"','.',''), ',','.'),'"&Sheet1!F$10&"', now());" -> INSERT INTO prog_grundgehalt (startdat, besoldung, betrag, stufe, modify_date) VALUES ('2022-12-01', 'A 15', replace(replace('6.095,64','.',''), ',','.'),'5', now()); | I29: ="INSERT INTO prog_grundgehalt (startdat, besoldung, betrag, stufe, modify_date) VALUES ('"&$E$3&"', '"&Sheet1!$A20&"', replace(replace('"&Sheet1!G20&"','.',''), ',','.'),'"&Sheet1!G$10&"', now());" -> INSERT INTO prog_grundgehalt (startdat, besoldung, betrag, stufe, modify_date) VALUES ('2022-12-01', 'A 15', replace(replace('6.332,70','.',''), ',','.'),'6', now()); | J29: ="INSERT INTO prog_grundgehalt (startdat, besoldung, betrag, stufe, modify_date) VALUES ('"&$E$3&"', '"&Sheet1!$A20&"', replace(replace('"&Sheet1!H20&"','.',''), ',','.'),'"&Sheet1!H$10&"', now());" -> INSERT INTO prog_grundgehalt (startdat, besoldung, betrag, stufe, modify_date) VALUES ('2022-12-01', 'A 15', replace(replace('6.569,73','.',''), ',','.'),'7', now()); | K29: ="INSERT INTO prog_grundgehalt (startdat, besoldung, betrag, stufe, modify_date) VALUES ('"&$E$3&"', '"&Sheet1!$A20&"', replace(replace('"&Sheet1!I20&"','.',''), ',','.'),'"&Sheet1!I$10&"', now());" -> INSERT INTO prog_grundgehalt (startdat, besoldung, betrag, stufe, modify_date) VALUES ('2022-12-01', 'A 15', replace(replace('6.806,80','.',''), ',','.'),'8', now()); | L29: ="INSERT INTO prog_grundgehalt (startdat, besoldung, betrag, stufe, modify_date) VALUES ('"&$E$3&"', '"&Sheet1!$A20&"', replace(replace('"&Sheet1!J20&"','.',''), ',','.'),'"&Sheet1!J$10&"', now());" -> INSERT INTO prog_grundgehalt (startdat, besoldung, betrag, stufe, modify_date) VALUES ('2022-12-01', 'A 15', replace(replace('7.043,83','.',''), ',','.'),'9', now()); | M29: ="INSERT INTO prog_grundgehalt (startdat, besoldung, betrag, stufe, modify_date) VALUES ('"&$E$3&"', '"&Sheet1!$A20&"', replace(replace('"&Sheet1!K20&"','.',''), ',','.'),'"&Sheet1!K$10&"', now());" -> INSERT INTO prog_grundgehalt (startdat, besoldung, betrag, stufe, modify_date) VALUES ('2022-12-01', 'A 15', replace(replace('7.280,91','.',''), ',','.'),'10', now());
A30: B 6 | B30: 10.641,25 | G30: ="INSERT INTO prog_grundgehalt (startdat, besoldung, betrag, stufe, modify_date) VALUES ('"&$E$3&"', '"&Sheet1!$A21&"', replace(replace('"&Sheet1!E21&"','.',''), ',','.'),'"&Sheet1!E$10&"', now());" -> INSERT INTO prog_grundgehalt (startdat, besoldung, betrag, stufe, modify_date) VALUES ('2022-12-01', 'A 16', replace(replace('6.397,21','.',''), ',','.'),'4', now()); | H30: ="INSERT INTO prog_grundgehalt (startdat, besoldung, betrag, stufe, modify_date) VALUES ('"&$E$3&"', '"&Sheet1!$A21&"', replace(replace('"&Sheet1!F21&"','.',''), ',','.'),'"&Sheet1!F$10&"', now());" -> INSERT INTO prog_grundgehalt (startdat, besoldung, betrag, stufe, modify_date) VALUES ('2022-12-01', 'A 16', replace(replace('6.739,89','.',''), ',','.'),'5', now()); | I30: ="INSERT INTO prog_grundgehalt (startdat, besoldung, betrag, stufe, modify_date) VALUES ('"&$E$3&"', '"&Sheet1!$A21&"', replace(replace('"&Sheet1!G21&"','.',''), ',','.'),'"&Sheet1!G$10&"', now());" -> INSERT INTO prog_grundgehalt (startdat, besoldung, betrag, stufe, modify_date) VALUES ('2022-12-01', 'A 16', replace(replace('7.014,09','.',''), ',','.'),'6', now()); | J30: ="INSERT INTO prog_grundgehalt (startdat, besoldung, betrag, stufe, modify_date) VALUES ('"&$E$3&"', '"&Sheet1!$A21&"', replace(replace('"&Sheet1!H21&"','.',''), ',','.'),'"&Sheet1!H$10&"', now());" -> INSERT INTO prog_grundgehalt (startdat, besoldung, betrag, stufe, modify_date) VALUES ('2022-12-01', 'A 16', replace(replace('7.288,26','.',''), ',','.'),'7', now()); | K30: ="INSERT INTO prog_grundgehalt (startdat, besoldung, betrag, stufe, modify_date) VALUES ('"&$E$3&"', '"&Sheet1!$A21&"', replace(replace('"&Sheet1!I21&"','.',''), ',','.'),'"&Sheet1!I$10&"', now());" -> INSERT INTO prog_grundgehalt (startdat, besoldung, betrag, stufe, modify_date) VALUES ('2022-12-01', 'A 16', replace(replace('7.562,39','.',''), ',','.'),'8', now()); | L30: ="INSERT INTO prog_grundgehalt (startdat, besoldung, betrag, stufe, modify_date) VALUES ('"&$E$3&"', '"&Sheet1!$A21&"', replace(replace('"&Sheet1!J21&"','.',''), ',','.'),'"&Sheet1!J$10&"', now());" -> INSERT INTO prog_grundgehalt (startdat, besoldung, betrag, stufe, modify_date) VALUES ('2022-12-01', 'A 16', replace(replace('7.836,54','.',''), ',','.'),'9', now()); | M30: ="INSERT INTO prog_grundgehalt (startdat, besoldung, betrag, stufe, modify_date) VALUES ('"&$E$3&"', '"&Sheet1!$A21&"', replace(replace('"&Sheet1!K21&"','.',''), ',','.'),'"&Sheet1!K$10&"', now());" -> INSERT INTO prog_grundgehalt (startdat, besoldung, betrag, stufe, modify_date) VALUES ('2022-12-01', 'A 16', replace(replace('8.110,70','.',''), ',','.'),'10', now());
A31: B 7 | B31: 11.191,11
A32: B 8 | B32: 11.764,14
A33: B 9 | B33: 12.475,69
A34: B 10 | B34: 14.685,38
A35: B 11 | B35: 15.254,87
A37: Landesbesoldungsordnung R Gültig ab 01. Dezember 2022
A39: 2-Jahres-Rhythmus
B40: 1 | C40: 2 | D40: 3 | E40: 4 | F40: 5 | G40: 6 | H40: 7 | I40: 8 | J40: 9 | K40: 10 | L40: 11
A41: R 1 | B41: 4.819,92 | C41: 4.929,34 | D41: 5.211,60 | E41: 5.493,83 | F41: 5.776,04 | G41: 6.058,30 | H41: 6.340,56 | I41: 6.622,78 | J41: 6.905,01 | K41: 7.187,27 | L41: 7.469,49
A42: R 2 | D42: 5.887,22 | E42: 6.169,41 | F42: 6.451,70 | G42: 6.733,91 | H42: 7.016,16 | I42: 7.298,41 | J42: 7.580,60 | K42: 7.862,84 | L42: 8.145,07
A44: R 3 8.955,70 R 4
A46: 9.477,42 R 5
A48: 10.076,00 R 6
...

Sheet Tabelle1
